BEGIN:VCALENDAR
VERSION:2.0
PRODID:-//Studio 50 - Gym, Dance &amp; Cheer Center - ECPv6.15.20//NONSGML v1.0//EN
CALSCALE:GREGORIAN
METHOD:PUBLISH
X-ORIGINAL-URL:https://studio50.org
X-WR-CALDESC:Events for Studio 50 - Gym, Dance &amp; Cheer Center
REFRESH-INTERVAL;VALUE=DURATION:PT1H
X-Robots-Tag:noindex
X-PUBLISHED-TTL:PT1H
BEGIN:VTIMEZONE
TZID:UTC
BEGIN:STANDARD
TZOFFSETFROM:+0000
TZOFFSETTO:+0000
TZNAME:UTC
DTSTART:20240101T000000
END:STANDARD
END:VTIMEZONE
BEGIN:VEVENT
DTSTART;TZID=UTC:20251004T140000
DTEND;TZID=UTC:20251004T140000
DTSTAMP:20260425T104507
CREATED:20250909T153444Z
LAST-MODIFIED:20250909T155036Z
UID:361-1759586400-1759586400@studio50.org
SUMMARY:Salem Little Egypt Parade
DESCRIPTION:[vc_row][vc_column][vc_single_image image=”362″ img_size=”full” alignment=”center”][vc_empty_space][vc_column_text]\nJoin Studio 50 at the Salem Little Egypt Parade! This exciting community event is open to all competition athletes\, cheer groups\, and hip hop dancers. It’s a wonderful opportunity to showcase team spirit\, represent the gym\, and celebrate together. Full details will be provided to participants closer to the event date. \n[/vc_column_text][/vc_column][/vc_row][vc_row css=”.vc_custom_1757432966961{padding-top: 3% !important;padding-bottom: 5% !important;}”][vc_column][vc_button title=”VIEW GYM CALENDAR” target=”_blank” full_width=”true” href=”https://app.jackrabbitclass.com/eventcalendar.asp?id=&key=&clabel=&date=&orgid=536957″][/vc_column][/vc_row]
URL:https://studio50.org/event/salem-little-egypt-parade/
CATEGORIES:Upcoming Events
ATTACH;FMTTYPE=image/png:https://studio50.org/wp-content/uploads/2025/09/Parent-Observation-Week-5.png
END:VEVENT
BEGIN:VEVENT
DTSTART;TZID=UTC:20251017T173000
DTEND;TZID=UTC:20251017T183000
DTSTAMP:20260425T104507
CREATED:20250925T135403Z
LAST-MODIFIED:20250927T014102Z
UID:392-1760722200-1760725800@studio50.org
SUMMARY:Spectra Dance Class
DESCRIPTION:[vc_row][vc_column][vc_single_image image=”393″ img_size=”full” alignment=”center”][vc_empty_space][vc_column_text]\nSpectra Dance is designed for individuals with physical\, developmental\, or intellectual disabilities. This supportive and inclusive class provides a fun space to explore movement\, rhythm\, and social interaction through dance and play! Each session includes 30 minutes of guided dance instruction followed by 30 minutes of open play in the gym\, giving dancers the chance to learn\, move\, and connect in a comfortable environment. Parents will need to sign in to JR to select your class. \nDates: 10/17\, 11/7\, 1/23\, 1/30\, 2/13\, 2/20\, 3/13\, 3/27\, 4/24\, 5/15\nOne-time fee: $250 (covers all 10 classes)\nOptional recital performance available for an additional fee\n\nSpectra Dance celebrates every dancer’s abilities while encouraging creativity\, confidence\, and community. \n[/vc_column_text][/vc_column][/vc_row][vc_row css=”.vc_custom_1757432966961{padding-top: 3% !important;padding-bottom: 5% !important;}”][vc_column][vc_button title=”REGISTER” target=”_blank” full_width=”true” href=”https://app.jackrabbitclass.com/regv2.asp?id=536957&preLoadClassID=20647793″][/vc_column][/vc_row]
URL:https://studio50.org/event/spectra-dance-class/
CATEGORIES:Upcoming Events
ATTACH;FMTTYPE=image/png:https://studio50.org/wp-content/uploads/2025/09/24-25-Spectra-dance.png
END:VEVENT
BEGIN:VEVENT
DTSTART;TZID=UTC:20251025T190000
DTEND;TZID=UTC:20251025T190000
DTSTAMP:20260425T104507
CREATED:20250909T154119Z
LAST-MODIFIED:20250909T155040Z
UID:363-1761418800-1761418800@studio50.org
SUMMARY:Centralia Halloween Parade
DESCRIPTION:[vc_row][vc_column][vc_single_image image=”364″ img_size=”full” alignment=”center”][vc_empty_space][vc_column_text]\nCelebrate the spooky season with us at the Centralia Halloween Parade! All competition athletes\, cheer groups\, and hip hop dancers are invited to take part. This event is a highlight of the fall and a chance for our athletes to perform for the community. Additional parade details will be handed out as the date approaches. \n[/vc_column_text][/vc_column][/vc_row][vc_row css=”.vc_custom_1757432966961{padding-top: 3% !important;padding-bottom: 5% !important;}”][vc_column][vc_button title=”VIEW GYM CALENDAR” target=”_blank” full_width=”true” href=”https://app.jackrabbitclass.com/eventcalendar.asp?id=&key=&clabel=&date=&orgid=536957″][/vc_column][/vc_row]
URL:https://studio50.org/event/centralia-halloween-parade/
CATEGORIES:Upcoming Events
ATTACH;FMTTYPE=image/png:https://studio50.org/wp-content/uploads/2025/09/Parent-Observation-Week-7.png
END:VEVENT
END:VCALENDAR