BEGIN:VCALENDAR
VERSION:2.0
PRODID:-//Studio 50 - Gym, Dance &amp; Cheer Center - ECPv6.15.20//NONSGML v1.0//EN
CALSCALE:GREGORIAN
METHOD:PUBLISH
X-ORIGINAL-URL:https://studio50.org
X-WR-CALDESC:Events for Studio 50 - Gym, Dance &amp; Cheer Center
REFRESH-INTERVAL;VALUE=DURATION:PT1H
X-Robots-Tag:noindex
X-PUBLISHED-TTL:PT1H
BEGIN:VTIMEZONE
TZID:UTC
BEGIN:STANDARD
TZOFFSETFROM:+0000
TZOFFSETTO:+0000
TZNAME:UTC
DTSTART:20240101T000000
END:STANDARD
END:VTIMEZONE
BEGIN:VEVENT
DTSTART;VALUE=DATE:20250907
DTEND;VALUE=DATE:20250911
DTSTAMP:20260425T122446
CREATED:20250909T152052Z
LAST-MODIFIED:20250909T154957Z
UID:355-1757203200-1757548799@studio50.org
SUMMARY:Booster Club Meetings
DESCRIPTION:[vc_row][vc_column][vc_single_image image=”356″ img_size=”full” alignment=”center”][vc_empty_space][vc_column_text]\nWe look forward to connecting with families at our Booster Club Meetings! Each team has a designated time to gather\, share important updates\, and prepare for the upcoming season: \nSunday\, September 7th \n\n6:00 pm: Comp Cheer\n\nMonday\, September 8th \n\n6:00 pm: Comp Tumbling Team\n7:30 pm: Company Dance\n\nTuesday\, September 9th \n\n8:00 pm: Junior Comp Dance\n\nWednesday\, September 10th \n\n 5:00 pm: Mini Comp Dance\n6:00 pm: Comp Tumbling Team\n\n[/vc_column_text][/vc_column][/vc_row][vc_row css=”.vc_custom_1757432966961{padding-top: 3% !important;padding-bottom: 5% !important;}”][vc_column][vc_button title=”VIEW GYM CALENDAR” target=”_blank” full_width=”true” href=”https://app.jackrabbitclass.com/eventcalendar.asp?id=&key=&clabel=&date=&orgid=536957″][/vc_column][/vc_row]
URL:https://studio50.org/event/booster-club-meetings/
CATEGORIES:Upcoming Events
ATTACH;FMTTYPE=image/png:https://studio50.org/wp-content/uploads/2025/09/Parent-Observation-Week-2.png
END:VEVENT
BEGIN:VEVENT
DTSTART;VALUE=DATE:20250920
DTEND;VALUE=DATE:20250922
DTSTAMP:20260425T122446
CREATED:20250909T153009Z
LAST-MODIFIED:20250909T155021Z
UID:357-1758326400-1758499199@studio50.org
SUMMARY:Mini & Youth Cheer Choreography
DESCRIPTION:[vc_row][vc_column][vc_single_image image=”358″ img_size=”full” alignment=”center”][vc_empty_space][vc_column_text]\nOur Mini and Youth Cheer athletes will begin building their routines at choreography sessions this September! \nSunday\, September 20th \n\n9:00 am –  1:00pm: Mini Cheer\n2:00pm – 6:00pm: Youth Cheer\n\nSunday\, September 21st \n\n2:00pm – 6:00pm: Youth Cheer\n\nThese sessions are mandatory for team members and will set the foundation for an exciting season of performances. No registration is required—just bring your energy and focus! \n[/vc_column_text][/vc_column][/vc_row][vc_row css=”.vc_custom_1757432966961{padding-top: 3% !important;padding-bottom: 5% !important;}”][vc_column][vc_button title=”VIEW GYM CALENDAR” target=”_blank” full_width=”true” href=”https://app.jackrabbitclass.com/eventcalendar.asp?id=&key=&clabel=&date=&orgid=536957″][/vc_column][/vc_row]
URL:https://studio50.org/event/mini-youth-cheer-choreography/
CATEGORIES:Upcoming Events
ATTACH;FMTTYPE=image/png:https://studio50.org/wp-content/uploads/2025/09/Parent-Observation-Week-3.png
END:VEVENT
BEGIN:VEVENT
DTSTART;TZID=UTC:20250927T083000
DTEND;TZID=UTC:20250927T123000
DTSTAMP:20260425T122446
CREATED:20250909T153317Z
LAST-MODIFIED:20250909T155032Z
UID:359-1758961800-1758976200@studio50.org
SUMMARY:Show Cheer Choreography
DESCRIPTION:[vc_row][vc_column][vc_single_image image=”360″ img_size=”full” alignment=”center”][vc_empty_space][vc_column_text]\nIt’s time for our Show Cheer athletes to shine! This choreography session will bring the team together to learn new skills\, form routines\, and build confidence on the floor. Attendance is required as we begin putting together an unforgettable routine for the season. \n[/vc_column_text][/vc_column][/vc_row][vc_row css=”.vc_custom_1757432966961{padding-top: 3% !important;padding-bottom: 5% !important;}”][vc_column][vc_button title=”VIEW GYM CALENDAR” target=”_blank” full_width=”true” href=”https://app.jackrabbitclass.com/eventcalendar.asp?id=&key=&clabel=&date=&orgid=536957″][/vc_column][/vc_row]
URL:https://studio50.org/event/show-cheer-choreography/
CATEGORIES:Upcoming Events
ATTACH;FMTTYPE=image/png:https://studio50.org/wp-content/uploads/2025/09/Parent-Observation-Week-4.png
END:VEVENT
END:VCALENDAR