BEGIN:VCALENDAR
VERSION:2.0
PRODID:-//Studio 50 - Gym, Dance &amp; Cheer Center - ECPv6.15.20//NONSGML v1.0//EN
CALSCALE:GREGORIAN
METHOD:PUBLISH
X-ORIGINAL-URL:https://studio50.org
X-WR-CALDESC:Events for Studio 50 - Gym, Dance &amp; Cheer Center
REFRESH-INTERVAL;VALUE=DURATION:PT1H
X-Robots-Tag:noindex
X-PUBLISHED-TTL:PT1H
BEGIN:VTIMEZONE
TZID:UTC
BEGIN:STANDARD
TZOFFSETFROM:+0000
TZOFFSETTO:+0000
TZNAME:UTC
DTSTART:20240101T000000
END:STANDARD
END:VTIMEZONE
BEGIN:VEVENT
DTSTART;VALUE=DATE:20250902
DTEND;VALUE=DATE:20260522
DTSTAMP:20260424T142905
CREATED:20241127T152421Z
LAST-MODIFIED:20260218T143920Z
UID:209-1756771200-1779407999@studio50.org
SUMMARY:Daytime Playtime
DESCRIPTION:[vc_row][vc_column][vc_single_image image=”345″ img_size=”full” alignment=”center”][vc_empty_space][/vc_column][/vc_row][vc_row][vc_column][vc_column_text]Come join us for Daytime Playtime! Every Tuesday & Thursday! \nTuesdays: 10:30-12:30pm\nThursdays: 12:30-2:30pm[/vc_column_text][vc_empty_space][/vc_column][/vc_row][vc_row][vc_column][vc_button title=”REGISTER NOW” target=”_blank” full_width=”true” href=”https://app.jackrabbitclass.com/eventcalendar.asp?id=&key=&clabel=&orgid=536957″][vc_empty_space][/vc_column][/vc_row][vc_row disable_element=”yes”][vc_column][vc_empty_space][vc_custom_heading text=”Register Now” font_container=”tag:h2|text_align:left|color:%23000000″ use_theme_fonts=”yes”][vc_separator style=”solid” color=”#000000″ padding_top=”10″ padding_bottom=”20″]Oops! We could not locate your form. [/vc_column][/vc_row]
URL:https://studio50.org/event/daytime-playtime/
CATEGORIES:Daytime Playtime
ATTACH;FMTTYPE=image/png:https://studio50.org/wp-content/uploads/2025/07/daytimeplaytime2025.png
END:VEVENT
BEGIN:VEVENT
DTSTART;VALUE=DATE:20260324
DTEND;VALUE=DATE:20260331
DTSTAMP:20260424T142905
CREATED:20251222T201654Z
LAST-MODIFIED:20251223T162903Z
UID:520-1774310400-1774915199@studio50.org
SUMMARY:Parent Observation Week
DESCRIPTION:[vc_row][vc_column][vc_single_image image=”521″ img_size=”full” alignment=”center”][vc_empty_space][/vc_column][/vc_row][vc_row][vc_column][vc_column_text]\nParent Observation Week will be held March 24–30. Each student may bring up to two observers. Additional details will be emailed closer to the date. Competition teams should refer to their Facebook group for instructions. \nDate: March 24–30\, 2026 \n[/vc_column_text][vc_empty_space][/vc_column][/vc_row][vc_row disable_element=”yes” css=”.vc_custom_1761681357310{padding-top: 3% !important;padding-bottom: 5% !important;}”][vc_column][vc_button title=”VIEW GYM CALENDAR” target=”_blank” full_width=”true” href=”https://app.jackrabbitclass.com/eventcalendar.asp?id=&key=&clabel=&date=&orgid=536957″][/vc_column][/vc_row]
URL:https://studio50.org/event/parent-observation-week-3/
CATEGORIES:Upcoming Events
ATTACH;FMTTYPE=image/jpeg:https://studio50.org/wp-content/uploads/2025/12/observation-week.jpg
END:VEVENT
BEGIN:VEVENT
DTSTART;TZID=UTC:20260327T160000
DTEND;TZID=UTC:20260327T180000
DTSTAMP:20260424T142905
CREATED:20251222T200250Z
LAST-MODIFIED:20251223T162841Z
UID:509-1774627200-1774634400@studio50.org
SUMMARY:Recreational Tumbling Make-Up Class
DESCRIPTION:[vc_row][vc_column][vc_single_image image=”528″ img_size=”full” alignment=”center”][vc_empty_space][/vc_column][/vc_row][vc_row][vc_column][vc_column_text]\nIf your athlete missed a recreational tumbling class this season\, they’re eligible for a make-up class. Classes are offered from 4-5pm and/or 5-6pm. \nPlease contact the office to register. \nDate: 3/27/2026Time: 4:00-5:00 pm | 5:00-6:00 pm \n[/vc_column_text][vc_empty_space][/vc_column][/vc_row][vc_row disable_element=”yes” css=”.vc_custom_1761681357310{padding-top: 3% !important;padding-bottom: 5% !important;}”][vc_column][vc_button title=”VIEW GYM CALENDAR” target=”_blank” full_width=”true” href=”https://app.jackrabbitclass.com/eventcalendar.asp?id=&key=&clabel=&date=&orgid=536957″][/vc_column][/vc_row]
URL:https://studio50.org/event/recreational-tumbling-make-up-class-6/
CATEGORIES:Upcoming Events
ATTACH;FMTTYPE=image/jpeg:https://studio50.org/wp-content/uploads/2025/12/make-up-class-.jpg
END:VEVENT
END:VCALENDAR